BEGIN:VCALENDAR
VERSION:2.0
PRODID:-//Gartenverein Löttringhausen ev - ECPv6.15.20//NONSGML v1.0//EN
CALSCALE:GREGORIAN
METHOD:PUBLISH
X-WR-CALNAME:Gartenverein Löttringhausen ev
X-ORIGINAL-URL:https://gartenverein-loettringhausen-ev.de
X-WR-CALDESC:Veranstaltungen für Gartenverein Löttringhausen ev
REFRESH-INTERVAL;VALUE=DURATION:PT1H
X-Robots-Tag:noindex
X-PUBLISHED-TTL:PT1H
BEGIN:VTIMEZONE
TZID:Europe/Berlin
BEGIN:DAYLIGHT
TZOFFSETFROM:+0100
TZOFFSETTO:+0200
TZNAME:CEST
DTSTART:20250330T010000
END:DAYLIGHT
BEGIN:STANDARD
TZOFFSETFROM:+0200
TZOFFSETTO:+0100
TZNAME:CET
DTSTART:20251026T010000
END:STANDARD
BEGIN:DAYLIGHT
TZOFFSETFROM:+0100
TZOFFSETTO:+0200
TZNAME:CEST
DTSTART:20260329T010000
END:DAYLIGHT
BEGIN:STANDARD
TZOFFSETFROM:+0200
TZOFFSETTO:+0100
TZNAME:CET
DTSTART:20261025T010000
END:STANDARD
BEGIN:DAYLIGHT
TZOFFSETFROM:+0100
TZOFFSETTO:+0200
TZNAME:CEST
DTSTART:20270328T010000
END:DAYLIGHT
BEGIN:STANDARD
TZOFFSETFROM:+0200
TZOFFSETTO:+0100
TZNAME:CET
DTSTART:20271031T010000
END:STANDARD
END:VTIMEZONE
BEGIN:VEVENT
DTSTART;VALUE=DATE:20260509
DTEND;VALUE=DATE:20260510
DTSTAMP:20260421T103707
CREATED:20250710T154030Z
LAST-MODIFIED:20250710T154030Z
UID:2368-1778284800-1778371199@gartenverein-loettringhausen-ev.de
SUMMARY:Reserviert
DESCRIPTION:
URL:https://gartenverein-loettringhausen-ev.de/event/reserviert-63
END:VEVENT
BEGIN:VEVENT
DTSTART;VALUE=DATE:20260606
DTEND;VALUE=DATE:20260607
DTSTAMP:20260421T103707
CREATED:20250710T153956Z
LAST-MODIFIED:20250710T153956Z
UID:2366-1780704000-1780790399@gartenverein-loettringhausen-ev.de
SUMMARY:Reserviert
DESCRIPTION:
URL:https://gartenverein-loettringhausen-ev.de/event/reserviert-62
END:VEVENT
BEGIN:VEVENT
DTSTART;VALUE=DATE:20260627
DTEND;VALUE=DATE:20260628
DTSTAMP:20260421T103707
CREATED:20251128T085002Z
LAST-MODIFIED:20251128T085002Z
UID:2417-1782518400-1782604799@gartenverein-loettringhausen-ev.de
SUMMARY:Reserviert
DESCRIPTION:
URL:https://gartenverein-loettringhausen-ev.de/event/reserviert-71
END:VEVENT
BEGIN:VEVENT
DTSTART;VALUE=DATE:20260711
DTEND;VALUE=DATE:20260712
DTSTAMP:20260421T103707
CREATED:20251128T085144Z
LAST-MODIFIED:20251128T085144Z
UID:2421-1783728000-1783814399@gartenverein-loettringhausen-ev.de
SUMMARY:Reserviert
DESCRIPTION:
URL:https://gartenverein-loettringhausen-ev.de/event/reserviert-73
END:VEVENT
BEGIN:VEVENT
DTSTART;VALUE=DATE:20260905
DTEND;VALUE=DATE:20260906
DTSTAMP:20260421T103707
CREATED:20251128T085026Z
LAST-MODIFIED:20251128T085026Z
UID:2419-1788566400-1788652799@gartenverein-loettringhausen-ev.de
SUMMARY:Reserviert
DESCRIPTION:
URL:https://gartenverein-loettringhausen-ev.de/event/reserviert-72
END:VEVENT
END:VCALENDAR